Package: ncRNAtools Version: 1.19.0 Command: /Library/Frameworks/R.framework/Resources/bin/R CMD check --install=check:ncRNAtools.install-out.txt --library=/Library/Frameworks/R.framework/Resources/library --no-vignettes --timings ncRNAtools_1.19.0.tar.gz StartedAt: 2025-10-20 21:01:19 -0400 (Mon, 20 Oct 2025) EndedAt: 2025-10-20 21:02:40 -0400 (Mon, 20 Oct 2025) EllapsedTime: 81.0 seconds RetCode: 0 Status: OK CheckDir: ncRNAtools.Rcheck Warnings: 0