Package: ncRNAtools Version: 1.19.0 Command: /Library/Frameworks/R.framework/Resources/bin/R CMD build --keep-empty-dirs --no-resave-data ncRNAtools StartedAt: 2025-10-20 17:10:35 -0400 (Mon, 20 Oct 2025) EndedAt: 2025-10-20 17:11:24 -0400 (Mon, 20 Oct 2025) EllapsedTime: 49.6 seconds RetCode: 0 Status: OK PackageFile: ncRNAtools_1.19.0.tar.gz PackageFileSize: 316.6 KiB