Package: ncGTW Version: 1.24.0 Command: /home/biocbuild/bbs-3.22-bioc/R/bin/R CMD INSTALL ncGTW StartedAt: 2025-11-17 17:58:31 -0500 (Mon, 17 Nov 2025) EndedAt: 2025-11-17 17:59:42 -0500 (Mon, 17 Nov 2025) EllapsedTime: 70.6 seconds RetCode: 0 Status: OK