Package: ncGTW Version: 1.24.0 Command: rm -rf ncGTW.buildbin-libdir && mkdir ncGTW.buildbin-libdir && /Users/biocbuild/BBS/utils/build-universal.sh ncGTW_1.24.0.tar.gz /Library/Frameworks/R.framework/Resources/bin/R ncGTW.buildbin-libdir StartedAt: 2025-11-23 10:12:04 -0500 (Sun, 23 Nov 2025) EndedAt: 2025-11-23 10:13:59 -0500 (Sun, 23 Nov 2025) EllapsedTime: 115.7 seconds RetCode: 0 Status: OK PackageFile: ncGTW_1.24.0.tgz PackageFileSize: 2.1 MiB