Package: mzR Version: 2.43.3 Command: /home/biocbuild/R/R/bin/R CMD INSTALL mzR StartedAt: 2025-10-16 21:25:39 -0000 (Thu, 16 Oct 2025) EndedAt: 2025-10-16 21:37:20 -0000 (Thu, 16 Oct 2025) EllapsedTime: 700.8 seconds RetCode: 0 Status: OK