Package: mzR Version: 2.43.3 Command: /home/biocbuild/R/R/bin/R CMD build --keep-empty-dirs --no-resave-data mzR StartedAt: 2025-10-17 03:06:52 -0000 (Fri, 17 Oct 2025) EndedAt: 2025-10-17 03:19:47 -0000 (Fri, 17 Oct 2025) EllapsedTime: 774.4 seconds RetCode: 0 Status: OK PackageFile: mzR_2.43.3.tar.gz PackageFileSize: 7.42 MiB