Package: mzR Version: 2.43.3 Command: /Library/Frameworks/R.framework/Resources/bin/R CMD check --install=check:mzR.install-out.txt --library=/Library/Frameworks/R.framework/Resources/library --no-vignettes --timings mzR_2.43.3.tar.gz StartedAt: 2025-10-20 00:12:37 -0400 (Mon, 20 Oct 2025) EndedAt: 2025-10-20 00:14:39 -0400 (Mon, 20 Oct 2025) EllapsedTime: 122.8 seconds RetCode: 0 Status: WARNINGS CheckDir: mzR.Rcheck Warnings: 2