Package: mzR Version: 2.43.3 Command: rm -rf mzR.buildbin-libdir && mkdir mzR.buildbin-libdir && /Users/biocbuild/BBS/utils/build-universal.sh mzR_2.43.3.tar.gz /Library/Frameworks/R.framework/Resources/bin/R mzR.buildbin-libdir StartedAt: 2025-10-20 03:22:01 -0400 (Mon, 20 Oct 2025) EndedAt: 2025-10-20 03:32:34 -0400 (Mon, 20 Oct 2025) EllapsedTime: 633.1 seconds RetCode: 0 Status: OK PackageFile: mzR_2.43.3.tgz PackageFileSize: 4.043 MiB