Package: mygene Version: 1.45.0 Command: /home/biocbuild/R/R/bin/R CMD INSTALL mygene StartedAt: 2025-10-16 22:01:37 -0000 (Thu, 16 Oct 2025) EndedAt: 2025-10-16 22:02:27 -0000 (Thu, 16 Oct 2025) EllapsedTime: 50.6 seconds RetCode: 0 Status: OK