Package: mygene Version: 1.45.0 Command: /home/biocbuild/R/R/bin/R CMD check --install=check:mygene.install-out.txt --library=/home/biocbuild/R/R/site-library --no-vignettes --timings mygene_1.45.0.tar.gz StartedAt: 2025-10-17 11:34:52 -0000 (Fri, 17 Oct 2025) EndedAt: 2025-10-17 11:40:24 -0000 (Fri, 17 Oct 2025) EllapsedTime: 331.4 seconds RetCode: 0 Status: OK CheckDir: mygene.Rcheck Warnings: 0