Package: mygene Version: 1.45.0 Command: F:\biocbuild\bbs-3.22-bioc\R\bin\R.exe CMD check --no-multiarch --install=check:mygene.install-out.txt --library=F:\biocbuild\bbs-3.22-bioc\R\library --no-vignettes --timings mygene_1.45.0.tar.gz StartedAt: 2025-08-15 05:44:36 -0400 (Fri, 15 Aug 2025) EndedAt: 2025-08-15 05:49:57 -0400 (Fri, 15 Aug 2025) EllapsedTime: 321.5 seconds RetCode: 0 Status: OK CheckDir: mygene.Rcheck Warnings: 0