Package: mygene Version: 1.45.0 Command: rm -rf mygene.buildbin-libdir && mkdir mygene.buildbin-libdir && F:\biocbuild\bbs-3.22-bioc\R\bin\R.exe CMD INSTALL --build --library=mygene.buildbin-libdir mygene_1.45.0.tar.gz StartedAt: 2025-08-15 10:49:08 -0400 (Fri, 15 Aug 2025) EndedAt: 2025-08-15 10:50:00 -0400 (Fri, 15 Aug 2025) EllapsedTime: 52.3 seconds RetCode: 0 Status: OK PackageFile: mygene_1.45.0.zip PackageFileSize: 227 KiB