Package: mygene Version: 1.45.0 Command: /home/biocbuild/bbs-3.22-bioc/R/bin/R CMD check --install=check:mygene.install-out.txt --library=/home/biocbuild/bbs-3.22-bioc/R/site-library --timings mygene_1.45.0.tar.gz StartedAt: 2025-10-20 02:34:04 -0400 (Mon, 20 Oct 2025) EndedAt: 2025-10-20 02:38:46 -0400 (Mon, 20 Oct 2025) EllapsedTime: 282.4 seconds RetCode: 0 Status: OK CheckDir: mygene.Rcheck Warnings: 0