Package: mygene Version: 1.45.0 Command: /Library/Frameworks/R.framework/Resources/bin/R CMD INSTALL mygene StartedAt: 2025-10-19 15:38:33 -0400 (Sun, 19 Oct 2025) EndedAt: 2025-10-19 15:39:28 -0400 (Sun, 19 Oct 2025) EllapsedTime: 54.7 seconds RetCode: 0 Status: OK