Package: mygene Version: 1.45.0 Command: /Library/Frameworks/R.framework/Resources/bin/R CMD check --install=check:mygene.install-out.txt --library=/Library/Frameworks/R.framework/Resources/library --no-vignettes --timings mygene_1.45.0.tar.gz StartedAt: 2025-10-21 23:36:41 -0400 (Tue, 21 Oct 2025) EndedAt: 2025-10-21 23:47:56 -0400 (Tue, 21 Oct 2025) EllapsedTime: 675.8 seconds RetCode: 0 Status: OK CheckDir: mygene.Rcheck Warnings: 0