Package: mygene Version: 1.45.0 Command: /Library/Frameworks/R.framework/Resources/bin/R CMD build --keep-empty-dirs --no-resave-data mygene StartedAt: 2025-10-19 18:26:51 -0400 (Sun, 19 Oct 2025) EndedAt: 2025-10-19 18:28:43 -0400 (Sun, 19 Oct 2025) EllapsedTime: 112.6 seconds RetCode: 0 Status: OK PackageFile: mygene_1.45.0.tar.gz PackageFileSize: 166.8 KiB