Package: mygene Version: 1.45.0 Command: /Library/Frameworks/R.framework/Resources/bin/R CMD check --install=check:mygene.install-out.txt --library=/Library/Frameworks/R.framework/Resources/library --no-vignettes --timings mygene_1.45.0.tar.gz StartedAt: 2025-10-20 20:59:32 -0400 (Mon, 20 Oct 2025) EndedAt: 2025-10-20 21:01:19 -0400 (Mon, 20 Oct 2025) EllapsedTime: 106.5 seconds RetCode: 0 Status: OK CheckDir: mygene.Rcheck Warnings: 0