Package: mygene Version: 1.45.0 Command: rm -rf mygene.buildbin-libdir && mkdir mygene.buildbin-libdir && /Users/biocbuild/BBS/utils/build-universal.sh mygene_1.45.0.tar.gz /Library/Frameworks/R.framework/Resources/bin/R mygene.buildbin-libdir StartedAt: 2025-10-19 23:08:32 -0400 (Sun, 19 Oct 2025) EndedAt: 2025-10-19 23:08:49 -0400 (Sun, 19 Oct 2025) EllapsedTime: 17.3 seconds RetCode: 0 Status: OK PackageFile: mygene_1.45.0.tgz PackageFileSize: 223.7 KiB