Package: mutscan Version: 1.0.0 Command: /Library/Frameworks/R.framework/Resources/bin/R CMD check --install=check:mutscan.install-out.txt --library=/Library/Frameworks/R.framework/Resources/library --no-vignettes --timings mutscan_1.0.0.tar.gz StartedAt: 2025-11-18 11:07:43 -0500 (Tue, 18 Nov 2025) EndedAt: 2025-11-18 11:20:00 -0500 (Tue, 18 Nov 2025) EllapsedTime: 737.1 seconds RetCode: 0 Status: OK CheckDir: mutscan.Rcheck Warnings: 0