Package: mutscan Version: 1.0.0 Command: /Library/Frameworks/R.framework/Resources/bin/R CMD INSTALL mutscan StartedAt: 2025-11-03 15:38:46 -0500 (Mon, 03 Nov 2025) EndedAt: 2025-11-03 15:39:56 -0500 (Mon, 03 Nov 2025) EllapsedTime: 70.6 seconds RetCode: 0 Status: OK