Package: mutscan Version: 1.0.0 Command: rm -rf mutscan.buildbin-libdir && mkdir mutscan.buildbin-libdir && /Users/biocbuild/BBS/utils/build-universal.sh mutscan_1.0.0.tar.gz /Library/Frameworks/R.framework/Resources/bin/R mutscan.buildbin-libdir StartedAt: 2025-11-04 01:52:45 -0500 (Tue, 04 Nov 2025) EndedAt: 2025-11-04 01:54:02 -0500 (Tue, 04 Nov 2025) EllapsedTime: 77.3 seconds RetCode: 0 Status: OK PackageFile: mutscan_1.0.0.tgz PackageFileSize: 2.922 MiB