Package: mutscan Version: 1.0.0 Command: /Library/Frameworks/R.framework/Resources/bin/R CMD INSTALL mutscan StartedAt: 2025-11-10 15:19:29 -0500 (Mon, 10 Nov 2025) EndedAt: 2025-11-10 15:19:48 -0500 (Mon, 10 Nov 2025) EllapsedTime: 19.4 seconds RetCode: 0 Status: OK