Package: mutscan Version: 1.0.0 Command: /Library/Frameworks/R.framework/Resources/bin/R CMD build --keep-empty-dirs --no-resave-data mutscan StartedAt: 2025-11-10 17:11:23 -0500 (Mon, 10 Nov 2025) EndedAt: 2025-11-10 17:11:55 -0500 (Mon, 10 Nov 2025) EllapsedTime: 31.3 seconds RetCode: 0 Status: OK PackageFile: mutscan_1.0.0.tar.gz PackageFileSize: 3.298 MiB