Package: mutscan Version: 1.0.0 Maintainer: Charlotte Soneson MaintainerEmail: charlottesoneson at gmail.com git_url: https://git.bioconductor.org/packages/mutscan git_branch: RELEASE_3_22 git_last_commit: 79672e3 git_last_commit_date: 2025-10-29 11:37:32 -0500 (Wed, 29 Oct 2025)