Package: muscle Version: 3.51.0 Command: /home/biocbuild/R/R/bin/R CMD INSTALL muscle StartedAt: 2025-10-16 21:38:32 -0000 (Thu, 16 Oct 2025) EndedAt: 2025-10-16 21:39:37 -0000 (Thu, 16 Oct 2025) EllapsedTime: 64.7 seconds RetCode: 0 Status: OK