Package: muscle Version: 3.51.0 Command: /home/biocbuild/R/R/bin/R CMD check --install=check:muscle.install-out.txt --library=/home/biocbuild/R/R/site-library --no-vignettes --timings muscle_3.51.0.tar.gz StartedAt: 2025-10-17 11:34:07 -0000 (Fri, 17 Oct 2025) EndedAt: 2025-10-17 11:35:27 -0000 (Fri, 17 Oct 2025) EllapsedTime: 80.1 seconds RetCode: 0 Status: WARNINGS CheckDir: muscle.Rcheck Warnings: 2