Package: muscle Version: 3.51.0 Command: rm -rf muscle.buildbin-libdir && mkdir muscle.buildbin-libdir && F:\biocbuild\bbs-3.22-bioc\R\bin\R.exe CMD INSTALL --build --library=muscle.buildbin-libdir muscle_3.51.0.tar.gz StartedAt: 2025-08-15 10:48:46 -0400 (Fri, 15 Aug 2025) EndedAt: 2025-08-15 10:50:40 -0400 (Fri, 15 Aug 2025) EllapsedTime: 114.3 seconds RetCode: 0 Status: OK PackageFile: muscle_3.51.0.zip PackageFileSize: 367.6 KiB