Package: muscle Version: 3.51.0 Command: /home/biocbuild/bbs-3.22-bioc/R/bin/R CMD check --install=check:muscle.install-out.txt --library=/home/biocbuild/bbs-3.22-bioc/R/site-library --timings muscle_3.51.0.tar.gz StartedAt: 2025-10-20 02:32:51 -0400 (Mon, 20 Oct 2025) EndedAt: 2025-10-20 02:34:04 -0400 (Mon, 20 Oct 2025) EllapsedTime: 72.1 seconds RetCode: 0 Status: WARNINGS CheckDir: muscle.Rcheck Warnings: 2