Package: muscle Version: 3.51.0 Command: /home/biocbuild/bbs-3.22-bioc/R/bin/R CMD build --keep-empty-dirs --no-resave-data --md5 muscle StartedAt: 2025-10-19 18:57:03 -0400 (Sun, 19 Oct 2025) EndedAt: 2025-10-19 18:57:57 -0400 (Sun, 19 Oct 2025) EllapsedTime: 54.0 seconds RetCode: 0 Status: OK PackageFile: muscle_3.51.0.tar.gz PackageFileSize: 495 KiB