Package: muscle Version: 3.51.0 Command: /Library/Frameworks/R.framework/Resources/bin/R CMD INSTALL muscle StartedAt: 2025-10-19 15:20:22 -0400 (Sun, 19 Oct 2025) EndedAt: 2025-10-19 15:21:28 -0400 (Sun, 19 Oct 2025) EllapsedTime: 66.0 seconds RetCode: 0 Status: OK