Package: muscle Version: 3.51.0 Command: /Library/Frameworks/R.framework/Resources/bin/R CMD build --keep-empty-dirs --no-resave-data muscle StartedAt: 2025-10-19 18:26:15 -0400 (Sun, 19 Oct 2025) EndedAt: 2025-10-19 18:28:05 -0400 (Sun, 19 Oct 2025) EllapsedTime: 110.4 seconds RetCode: 0 Status: OK PackageFile: muscle_3.51.0.tar.gz PackageFileSize: 486.7 KiB