Package: muscle Version: 3.51.0 Command: /Library/Frameworks/R.framework/Resources/bin/R CMD check --install=check:muscle.install-out.txt --library=/Library/Frameworks/R.framework/Resources/library --no-vignettes --timings muscle_3.51.0.tar.gz StartedAt: 2025-10-20 20:59:02 -0400 (Mon, 20 Oct 2025) EndedAt: 2025-10-20 20:59:30 -0400 (Mon, 20 Oct 2025) EllapsedTime: 28.3 seconds RetCode: 0 Status: WARNINGS CheckDir: muscle.Rcheck Warnings: 2