Package: muscle Version: 3.51.0 Command: /Library/Frameworks/R.framework/Resources/bin/R CMD build --keep-empty-dirs --no-resave-data muscle StartedAt: 2025-10-19 17:08:30 -0400 (Sun, 19 Oct 2025) EndedAt: 2025-10-19 17:08:51 -0400 (Sun, 19 Oct 2025) EllapsedTime: 21.2 seconds RetCode: 0 Status: OK PackageFile: muscle_3.51.0.tar.gz PackageFileSize: 487.4 KiB