Package: muscle Version: 3.51.0 Command: rm -rf muscle.buildbin-libdir && mkdir muscle.buildbin-libdir && /Users/biocbuild/BBS/utils/build-universal.sh muscle_3.51.0.tar.gz /Library/Frameworks/R.framework/Resources/bin/R muscle.buildbin-libdir StartedAt: 2025-10-19 23:08:27 -0400 (Sun, 19 Oct 2025) EndedAt: 2025-10-19 23:08:45 -0400 (Sun, 19 Oct 2025) EllapsedTime: 18.3 seconds RetCode: 0 Status: OK PackageFile: muscle_3.51.0.tgz PackageFileSize: 497.3 KiB