Package: muscat Version: 1.23.1 Command: /home/biocbuild/bbs-3.22-bioc/R/bin/R CMD check --install=check:muscat.install-out.txt --library=/home/biocbuild/bbs-3.22-bioc/R/site-library --timings muscat_1.23.1.tar.gz StartedAt: 2025-10-04 02:11:17 -0400 (Sat, 04 Oct 2025) EndedAt: 2025-10-04 02:23:03 -0400 (Sat, 04 Oct 2025) EllapsedTime: 705.8 seconds RetCode: 0 Status: OK CheckDir: muscat.Rcheck Warnings: 0