Package: muscat Version: 1.23.1 Command: /home/biocbuild/bbs-3.22-bioc/R/bin/R CMD build --keep-empty-dirs --no-resave-data --md5 muscat StartedAt: 2025-10-03 18:55:13 -0400 (Fri, 03 Oct 2025) EndedAt: 2025-10-03 19:01:02 -0400 (Fri, 03 Oct 2025) EllapsedTime: 348.4 seconds RetCode: 0 Status: OK PackageFile: muscat_1.23.1.tar.gz PackageFileSize: 7.014 MiB