Package: muscat Version: 1.24.0 Command: /Library/Frameworks/R.framework/Resources/bin/R CMD check --install=check:muscat.install-out.txt --library=/Library/Frameworks/R.framework/Resources/library --no-vignettes --timings muscat_1.24.0.tar.gz StartedAt: 2025-11-21 08:40:05 -0500 (Fri, 21 Nov 2025) EndedAt: 2025-11-21 08:53:43 -0500 (Fri, 21 Nov 2025) EllapsedTime: 817.9 seconds RetCode: 0 Status: OK CheckDir: muscat.Rcheck Warnings: 0