Package: mumosa Version: 1.17.0 Command: /home/biocbuild/R/R/bin/R CMD INSTALL mumosa StartedAt: 2025-10-02 21:26:12 -0000 (Thu, 02 Oct 2025) EndedAt: 2025-10-02 21:26:50 -0000 (Thu, 02 Oct 2025) EllapsedTime: 38.5 seconds RetCode: 0 Status: OK