Package: mumosa Version: 1.17.0 Command: /home/biocbuild/R/R/bin/R CMD build --keep-empty-dirs --no-resave-data mumosa StartedAt: 2025-10-03 01:45:43 -0000 (Fri, 03 Oct 2025) EndedAt: 2025-10-03 01:48:17 -0000 (Fri, 03 Oct 2025) EllapsedTime: 154.1 seconds RetCode: 0 Status: OK PackageFile: mumosa_1.17.0.tar.gz PackageFileSize: 498.5 KiB