Package: mumosa Version: 1.17.0 Command: rm -rf mumosa.buildbin-libdir && mkdir mumosa.buildbin-libdir && F:\biocbuild\bbs-3.22-bioc\R\bin\R.exe CMD INSTALL --build --library=mumosa.buildbin-libdir mumosa_1.17.0.tar.gz StartedAt: 2025-08-15 10:48:25 -0400 (Fri, 15 Aug 2025) EndedAt: 2025-08-15 10:49:06 -0400 (Fri, 15 Aug 2025) EllapsedTime: 41.7 seconds RetCode: 0 Status: OK PackageFile: mumosa_1.17.0.zip PackageFileSize: 493.6 KiB