Package: mumosa Version: 1.17.0 Command: /Library/Frameworks/R.framework/Resources/bin/R CMD build --keep-empty-dirs --no-resave-data mumosa StartedAt: 2025-10-16 18:51:22 -0400 (Thu, 16 Oct 2025) EndedAt: 2025-10-16 18:54:03 -0400 (Thu, 16 Oct 2025) EllapsedTime: 160.7 seconds RetCode: 0 Status: OK PackageFile: mumosa_1.17.0.tar.gz PackageFileSize: 661.7 KiB