Package: mumosa Version: 1.17.0 Command: /Library/Frameworks/R.framework/Resources/bin/R CMD INSTALL mumosa StartedAt: 2025-10-08 15:35:50 -0400 (Wed, 08 Oct 2025) EndedAt: 2025-10-08 15:36:04 -0400 (Wed, 08 Oct 2025) EllapsedTime: 13.4 seconds RetCode: 0 Status: OK