Package: mumosa Version: 1.17.0 Command: /Library/Frameworks/R.framework/Resources/bin/R CMD check --install=check:mumosa.install-out.txt --library=/Library/Frameworks/R.framework/Resources/library --no-vignettes --timings mumosa_1.17.0.tar.gz StartedAt: 2025-10-09 20:41:49 -0400 (Thu, 09 Oct 2025) EndedAt: 2025-10-09 20:44:02 -0400 (Thu, 09 Oct 2025) EllapsedTime: 132.5 seconds RetCode: 0 Status: OK CheckDir: mumosa.Rcheck Warnings: 0