Package: mumosa Version: 1.17.0 Command: /Library/Frameworks/R.framework/Resources/bin/R CMD build --keep-empty-dirs --no-resave-data mumosa StartedAt: 2025-10-08 17:16:22 -0400 (Wed, 08 Oct 2025) EndedAt: 2025-10-08 17:17:10 -0400 (Wed, 08 Oct 2025) EllapsedTime: 48.5 seconds RetCode: 0 Status: OK PackageFile: mumosa_1.17.0.tar.gz PackageFileSize: 659.1 KiB