Package: mumosa Version: 1.17.0 Command: rm -rf mumosa.buildbin-libdir && mkdir mumosa.buildbin-libdir && /Users/biocbuild/BBS/utils/build-universal.sh mumosa_1.17.0.tar.gz /Library/Frameworks/R.framework/Resources/bin/R mumosa.buildbin-libdir StartedAt: 2025-10-08 22:56:23 -0400 (Wed, 08 Oct 2025) EndedAt: 2025-10-08 22:56:37 -0400 (Wed, 08 Oct 2025) EllapsedTime: 13.3 seconds RetCode: 0 Status: OK PackageFile: mumosa_1.17.0.tgz PackageFileSize: 731.1 KiB