Package: multtest Version: 2.65.0 Command: /Library/Frameworks/R.framework/Resources/bin/R CMD build --keep-empty-dirs --no-resave-data multtest StartedAt: 2025-10-16 17:23:11 -0400 (Thu, 16 Oct 2025) EndedAt: 2025-10-16 17:23:12 -0400 (Thu, 16 Oct 2025) EllapsedTime: 1.0 seconds RetCode: 0 Status: OK PackageFile: multtest_2.65.0.tar.gz PackageFileSize: 1.235 MiB