Package: multiscan Version: 1.69.0 Command: /home/biocbuild/R/R/bin/R CMD INSTALL multiscan StartedAt: 2025-10-20 20:25:52 -0000 (Mon, 20 Oct 2025) EndedAt: 2025-10-20 20:25:55 -0000 (Mon, 20 Oct 2025) EllapsedTime: 3.7 seconds RetCode: 0 Status: OK