Package: multiscan Version: 1.69.0 Command: /home/biocbuild/R/R/bin/R CMD build --keep-empty-dirs --no-resave-data multiscan StartedAt: 2025-10-21 01:37:31 -0000 (Tue, 21 Oct 2025) EndedAt: 2025-10-21 01:37:40 -0000 (Tue, 21 Oct 2025) EllapsedTime: 9.0 seconds RetCode: 0 Status: OK PackageFile: multiscan_1.69.0.tar.gz PackageFileSize: 738.2 KiB