Package: multiscan Version: 1.69.0 Command: F:\biocbuild\bbs-3.22-bioc\R\bin\R.exe CMD check --no-multiarch --install=check:multiscan.install-out.txt --library=F:\biocbuild\bbs-3.22-bioc\R\library --no-vignettes --timings multiscan_1.69.0.tar.gz StartedAt: 2025-08-15 05:42:28 -0400 (Fri, 15 Aug 2025) EndedAt: 2025-08-15 05:43:16 -0400 (Fri, 15 Aug 2025) EllapsedTime: 48.1 seconds RetCode: 0 Status: OK CheckDir: multiscan.Rcheck Warnings: 0