Package: multiscan Version: 1.69.0 Command: chmod a+r multiscan -R && F:\biocbuild\bbs-3.22-bioc\R\bin\R.exe CMD build --keep-empty-dirs --no-resave-data multiscan StartedAt: 2025-08-14 21:49:22 -0400 (Thu, 14 Aug 2025) EndedAt: 2025-08-14 21:49:42 -0400 (Thu, 14 Aug 2025) EllapsedTime: 19.7 seconds RetCode: 0 Status: OK PackageFile: multiscan_1.69.0.tar.gz PackageFileSize: 532.3 KiB